Package: ribosomeProfilingQC Version: 1.19.2 Command: /Library/Frameworks/R.framework/Resources/bin/R CMD build --keep-empty-dirs --no-resave-data ribosomeProfilingQC StartedAt: 2025-02-12 17:24:58 -0500 (Wed, 12 Feb 2025) EndedAt: 2025-02-12 17:26:49 -0500 (Wed, 12 Feb 2025) EllapsedTime: 111.2 seconds RetCode: 0 Status: OK PackageFile: ribosomeProfilingQC_1.19.2.tar.gz PackageFileSize: 3.396 MiB