Package: ribosomeProfilingQC Version: 1.19.2 Command: /home/biocbuild/bbs-3.21-bioc/R/bin/R CMD build --keep-empty-dirs --no-resave-data ribosomeProfilingQC StartedAt: 2025-02-09 18:56:02 -0500 (Sun, 09 Feb 2025) EndedAt: 2025-02-09 19:00:32 -0500 (Sun, 09 Feb 2025) EllapsedTime: 269.3 seconds RetCode: 0 Status: OK PackageFile: ribosomeProfilingQC_1.19.2.tar.gz PackageFileSize: 3.539 MiB