Package: ribosomeProfilingQC Version: 1.19.2 Command: rm -rf ribosomeProfilingQC.buildbin-libdir && mkdir ribosomeProfilingQC.buildbin-libdir && E:\biocbuild\bbs-3.21-bioc\R\bin\R.exe CMD INSTALL --build --library=ribosomeProfilingQC.buildbin-libdir ribosomeProfilingQC_1.19.2.tar.gz StartedAt: 2025-02-10 08:33:37 -0500 (Mon, 10 Feb 2025) EndedAt: 2025-02-10 08:36:44 -0500 (Mon, 10 Feb 2025) EllapsedTime: 187.0 seconds RetCode: 0 Status: OK PackageFile: ribosomeProfilingQC_1.19.2.zip PackageFileSize: 3.039 MiB