Package: ribosomeProfilingQC Version: 1.19.2 Command: E:\biocbuild\bbs-3.21-bioc\R\bin\R.exe CMD check --no-multiarch --install=check:ribosomeProfilingQC.install-out.txt --library=E:\biocbuild\bbs-3.21-bioc\R\library --no-vignettes --timings ribosomeProfilingQC_1.19.2.tar.gz StartedAt: 2025-02-10 04:43:23 -0500 (Mon, 10 Feb 2025) EndedAt: 2025-02-10 04:53:20 -0500 (Mon, 10 Feb 2025) EllapsedTime: 597.0 seconds RetCode: 0 Status: OK CheckDir: ribosomeProfilingQC.Rcheck Warnings: 0