Package: rifi Version: 1.11.0 Command: /Library/Frameworks/R.framework/Resources/bin/R CMD check --install=check:rifi.install-out.txt --library=/Library/Frameworks/R.framework/Resources/library --no-vignettes --timings rifi_1.11.0.tar.gz StartedAt: 2025-02-12 21:03:15 -0500 (Wed, 12 Feb 2025) EndedAt: 2025-02-12 21:06:39 -0500 (Wed, 12 Feb 2025) EllapsedTime: 204.3 seconds RetCode: 0 Status: WARNINGS CheckDir: rifi.Rcheck Warnings: 2