Package: rifi Version: 1.11.0 Command: /Library/Frameworks/R.framework/Resources/bin/R CMD INSTALL rifi StartedAt: 2025-02-09 15:20:05 -0500 (Sun, 09 Feb 2025) EndedAt: 2025-02-09 15:20:20 -0500 (Sun, 09 Feb 2025) EllapsedTime: 15.4 seconds RetCode: 0 Status: OK