Package: rifi Version: 1.11.0 Command: /home/biocbuild/R/R/bin/R CMD INSTALL rifi StartedAt: 2025-01-29 20:16:54 -0000 (Wed, 29 Jan 2025) EndedAt: 2025-01-29 20:17:47 -0000 (Wed, 29 Jan 2025) EllapsedTime: 53.1 seconds RetCode: 0 Status: OK