Package: rifi Version: 1.11.0 Command: rm -rf rifi.buildbin-libdir && mkdir rifi.buildbin-libdir && /Users/biocbuild/BBS/utils/build-universal.sh rifi_1.11.0.tar.gz /Library/Frameworks/R.framework/Resources/bin/R rifi.buildbin-libdir StartedAt: 2025-02-13 00:54:30 -0500 (Thu, 13 Feb 2025) EndedAt: 2025-02-13 00:55:25 -0500 (Thu, 13 Feb 2025) EllapsedTime: 55.3 seconds RetCode: 0 Status: OK PackageFile: rifi_1.11.0.tgz PackageFileSize: 4.758 MiB