Package: rifi Version: 1.11.0 Command: /home/biocbuild/bbs-3.21-bioc/R/bin/R CMD check --install=check:rifi.install-out.txt --library=/home/biocbuild/bbs-3.21-bioc/R/site-library --timings rifi_1.11.0.tar.gz StartedAt: 2025-02-13 01:56:32 -0500 (Thu, 13 Feb 2025) EndedAt: 2025-02-13 02:06:44 -0500 (Thu, 13 Feb 2025) EllapsedTime: 611.8 seconds RetCode: 0 Status: WARNINGS CheckDir: rifi.Rcheck Warnings: 2