Package: rifiComparative Version: 1.7.0 Command: rm -rf rifiComparative.buildbin-libdir && mkdir rifiComparative.buildbin-libdir && /Users/biocbuild/BBS/utils/build-universal.sh rifiComparative_1.7.0.tar.gz /Library/Frameworks/R.framework/Resources/bin/R rifiComparative.buildbin-libdir StartedAt: 2025-02-09 22:27:48 -0500 (Sun, 09 Feb 2025) EndedAt: 2025-02-09 22:28:03 -0500 (Sun, 09 Feb 2025) EllapsedTime: 15.3 seconds RetCode: 0 Status: OK PackageFile: rifiComparative_1.7.0.tgz PackageFileSize: 2.437 MiB