Package: rifiComparative Version: 1.7.0 Command: /Library/Frameworks/R.framework/Resources/bin/R CMD check --install=check:rifiComparative.install-out.txt --library=/Library/Frameworks/R.framework/Resources/library --no-vignettes --timings rifiComparative_1.7.0.tar.gz StartedAt: 2025-02-09 20:58:42 -0500 (Sun, 09 Feb 2025) EndedAt: 2025-02-09 21:03:03 -0500 (Sun, 09 Feb 2025) EllapsedTime: 261.1 seconds RetCode: 0 Status: OK CheckDir: rifiComparative.Rcheck Warnings: 0