Package: rifiComparative Version: 1.7.0 Command: /Library/Frameworks/R.framework/Resources/bin/R CMD INSTALL rifiComparative StartedAt: 2025-02-09 15:18:48 -0500 (Sun, 09 Feb 2025) EndedAt: 2025-02-09 15:19:02 -0500 (Sun, 09 Feb 2025) EllapsedTime: 13.6 seconds RetCode: 0 Status: OK