Package: rifiComparative Version: 1.7.0 Command: /home/biocbuild/R/R/bin/R CMD build --keep-empty-dirs --no-resave-data rifiComparative StartedAt: 2025-01-29 01:42:57 -0000 (Wed, 29 Jan 2025) EndedAt: 2025-01-29 01:51:41 -0000 (Wed, 29 Jan 2025) EllapsedTime: 523.4 seconds RetCode: 0 Status: OK PackageFile: rifiComparative_1.7.0.tar.gz PackageFileSize: 3.212 MiB