Package: rifiComparative Version: 1.7.0 Command: /Library/Frameworks/R.framework/Resources/bin/R CMD build --keep-empty-dirs --no-resave-data rifiComparative StartedAt: 2025-02-12 18:03:29 -0500 (Wed, 12 Feb 2025) EndedAt: 2025-02-12 18:11:36 -0500 (Wed, 12 Feb 2025) EllapsedTime: 487.3 seconds RetCode: 0 Status: OK PackageFile: rifiComparative_1.7.0.tar.gz PackageFileSize: 3.149 MiB