Package: rifiComparative Version: 1.7.0 Command: /home/biocbuild/bbs-3.21-bioc/R/bin/R CMD build --keep-empty-dirs --no-resave-data rifiComparative StartedAt: 2025-02-09 18:56:27 -0500 (Sun, 09 Feb 2025) EndedAt: 2025-02-09 19:02:16 -0500 (Sun, 09 Feb 2025) EllapsedTime: 348.4 seconds RetCode: 0 Status: OK PackageFile: rifiComparative_1.7.0.tar.gz PackageFileSize: 3.149 MiB