Package: rifiComparative Version: 1.7.0 Command: /home/biocbuild/bbs-3.21-bioc/R/bin/R CMD check --install=check:rifiComparative.install-out.txt --library=/home/biocbuild/bbs-3.21-bioc/R/site-library --timings rifiComparative_1.7.0.tar.gz StartedAt: 2025-02-10 01:56:30 -0500 (Mon, 10 Feb 2025) EndedAt: 2025-02-10 02:13:00 -0500 (Mon, 10 Feb 2025) EllapsedTime: 990.5 seconds RetCode: 0 Status: OK CheckDir: rifiComparative.Rcheck Warnings: 0