Package: rifiComparative Version: 1.7.0 Command: /home/biocbuild/bbs-3.21-bioc/R/bin/R CMD INSTALL rifiComparative StartedAt: 2025-02-09 15:29:57 -0500 (Sun, 09 Feb 2025) EndedAt: 2025-02-09 15:30:31 -0500 (Sun, 09 Feb 2025) EllapsedTime: 33.9 seconds RetCode: 0 Status: OK