Package: roar Version: 1.43.0 Command: rm -rf roar.buildbin-libdir && mkdir roar.buildbin-libdir && /Users/biocbuild/BBS/utils/build-universal.sh roar_1.43.0.tar.gz /Library/Frameworks/R.framework/Resources/bin/R roar.buildbin-libdir StartedAt: 2025-02-09 22:28:25 -0500 (Sun, 09 Feb 2025) EndedAt: 2025-02-09 22:28:41 -0500 (Sun, 09 Feb 2025) EllapsedTime: 15.3 seconds RetCode: 0 Status: OK PackageFile: roar_1.43.0.tgz PackageFileSize: 1.245 MiB