Package: roar Version: 1.43.0 Command: /Library/Frameworks/R.framework/Resources/bin/R CMD build --keep-empty-dirs --no-resave-data roar StartedAt: 2025-02-09 17:26:43 -0500 (Sun, 09 Feb 2025) EndedAt: 2025-02-09 17:27:26 -0500 (Sun, 09 Feb 2025) EllapsedTime: 43.5 seconds RetCode: 0 Status: OK PackageFile: roar_1.43.0.tar.gz PackageFileSize: 901.7 KiB