Package: roar Version: 1.43.0 Command: /Library/Frameworks/R.framework/Resources/bin/R CMD INSTALL roar StartedAt: 2025-02-09 15:09:01 -0500 (Sun, 09 Feb 2025) EndedAt: 2025-02-09 15:09:15 -0500 (Sun, 09 Feb 2025) EllapsedTime: 14.5 seconds RetCode: 0 Status: OK