Package: roar Version: 1.43.0 Command: /Library/Frameworks/R.framework/Resources/bin/R CMD check --install=check:roar.install-out.txt --library=/Library/Frameworks/R.framework/Resources/library --no-vignettes --timings roar_1.43.0.tar.gz StartedAt: 2025-02-09 23:11:42 -0500 (Sun, 09 Feb 2025) EndedAt: 2025-02-09 23:16:47 -0500 (Sun, 09 Feb 2025) EllapsedTime: 304.5 seconds RetCode: 0 Status: OK CheckDir: roar.Rcheck Warnings: 0