Package: roar Version: 1.43.0 Command: /Library/Frameworks/R.framework/Resources/bin/R CMD INSTALL roar StartedAt: 2025-02-12 15:17:40 -0500 (Wed, 12 Feb 2025) EndedAt: 2025-02-12 15:18:29 -0500 (Wed, 12 Feb 2025) EllapsedTime: 49.3 seconds RetCode: 0 Status: OK