Package: roar Version: 1.43.0 Command: /home/biocbuild/bbs-3.21-bioc/R/bin/R CMD build --keep-empty-dirs --no-resave-data roar StartedAt: 2025-02-09 18:59:24 -0500 (Sun, 09 Feb 2025) EndedAt: 2025-02-09 19:01:16 -0500 (Sun, 09 Feb 2025) EllapsedTime: 112.1 seconds RetCode: 0 Status: OK PackageFile: roar_1.43.0.tar.gz PackageFileSize: 901.7 KiB