Package: roar Version: 1.43.0 Command: /home/biocbuild/bbs-3.21-bioc/R/bin/R CMD check --install=check:roar.install-out.txt --library=/home/biocbuild/bbs-3.21-bioc/R/site-library --timings roar_1.43.0.tar.gz StartedAt: 2025-02-10 02:02:30 -0500 (Mon, 10 Feb 2025) EndedAt: 2025-02-10 02:07:52 -0500 (Mon, 10 Feb 2025) EllapsedTime: 321.4 seconds RetCode: 0 Status: OK CheckDir: roar.Rcheck Warnings: 0