Package: roar Version: 1.43.0 Command: /home/biocbuild/bbs-3.21-bioc/R/bin/R CMD INSTALL roar StartedAt: 2025-02-09 15:31:30 -0500 (Sun, 09 Feb 2025) EndedAt: 2025-02-09 15:32:03 -0500 (Sun, 09 Feb 2025) EllapsedTime: 32.1 seconds RetCode: 0 Status: OK