Package: roar Version: 1.43.0 Command: rm -rf roar.buildbin-libdir && mkdir roar.buildbin-libdir && E:\biocbuild\bbs-3.21-bioc\R\bin\R.exe CMD INSTALL --build --library=roar.buildbin-libdir roar_1.43.0.tar.gz StartedAt: 2025-02-10 08:35:09 -0500 (Mon, 10 Feb 2025) EndedAt: 2025-02-10 08:35:55 -0500 (Mon, 10 Feb 2025) EllapsedTime: 46.3 seconds RetCode: 0 Status: OK PackageFile: roar_1.43.0.zip PackageFileSize: 1.057 MiB