Package: roar Version: 1.43.0 Command: chmod a+r roar -R && E:\biocbuild\bbs-3.21-bioc\R\bin\R.exe CMD build --keep-empty-dirs --no-resave-data roar StartedAt: 2025-02-09 21:15:14 -0500 (Sun, 09 Feb 2025) EndedAt: 2025-02-09 21:17:52 -0500 (Sun, 09 Feb 2025) EllapsedTime: 157.4 seconds RetCode: 0 Status: OK PackageFile: roar_1.43.0.tar.gz PackageFileSize: 720.7 KiB