Package: roar Version: 1.43.0 Command: E:\biocbuild\bbs-3.21-bioc\R\bin\R.exe CMD check --no-multiarch --install=check:roar.install-out.txt --library=E:\biocbuild\bbs-3.21-bioc\R\library --no-vignettes --timings roar_1.43.0.tar.gz StartedAt: 2025-02-10 04:49:48 -0500 (Mon, 10 Feb 2025) EndedAt: 2025-02-10 04:54:38 -0500 (Mon, 10 Feb 2025) EllapsedTime: 290.2 seconds RetCode: 0 Status: OK CheckDir: roar.Rcheck Warnings: 0