Package: roastgsa Version: 1.5.0 Command: /Library/Frameworks/R.framework/Resources/bin/R CMD build --keep-empty-dirs --no-resave-data roastgsa StartedAt: 2025-02-12 18:05:44 -0500 (Wed, 12 Feb 2025) EndedAt: 2025-02-12 18:07:16 -0500 (Wed, 12 Feb 2025) EllapsedTime: 92.7 seconds RetCode: 0 Status: OK PackageFile: roastgsa_1.5.0.tar.gz PackageFileSize: 2.069 MiB