Package: roastgsa Version: 1.5.0 Command: /home/biocbuild/bbs-3.21-bioc/R/bin/R CMD build --keep-empty-dirs --no-resave-data roastgsa StartedAt: 2025-02-09 18:59:27 -0500 (Sun, 09 Feb 2025) EndedAt: 2025-02-09 19:00:46 -0500 (Sun, 09 Feb 2025) EllapsedTime: 79.1 seconds RetCode: 0 Status: OK PackageFile: roastgsa_1.5.0.tar.gz PackageFileSize: 2.035 MiB