Package: roastgsa Version: 1.5.0 Command: /home/biocbuild/bbs-3.21-bioc/R/bin/R CMD check --install=check:roastgsa.install-out.txt --library=/home/biocbuild/bbs-3.21-bioc/R/site-library --timings roastgsa_1.5.0.tar.gz StartedAt: 2025-02-10 02:02:57 -0500 (Mon, 10 Feb 2025) EndedAt: 2025-02-10 02:05:34 -0500 (Mon, 10 Feb 2025) EllapsedTime: 156.2 seconds RetCode: 0 Status: OK CheckDir: roastgsa.Rcheck Warnings: 0