Package: roastgsa Version: 1.5.0 Command: rm -rf roastgsa.buildbin-libdir && mkdir roastgsa.buildbin-libdir && E:\biocbuild\bbs-3.21-bioc\R\bin\R.exe CMD INSTALL --build --library=roastgsa.buildbin-libdir roastgsa_1.5.0.tar.gz StartedAt: 2025-02-10 08:35:11 -0500 (Mon, 10 Feb 2025) EndedAt: 2025-02-10 08:35:28 -0500 (Mon, 10 Feb 2025) EllapsedTime: 16.7 seconds RetCode: 0 Status: OK PackageFile: roastgsa_1.5.0.zip PackageFileSize: 1.581 MiB