Package: roastgsa Version: 1.5.0 Command: chmod a+r roastgsa -R && E:\biocbuild\bbs-3.21-bioc\R\bin\R.exe CMD build --keep-empty-dirs --no-resave-data roastgsa StartedAt: 2025-02-09 21:15:25 -0500 (Sun, 09 Feb 2025) EndedAt: 2025-02-09 21:17:21 -0500 (Sun, 09 Feb 2025) EllapsedTime: 115.5 seconds RetCode: 0 Status: OK PackageFile: roastgsa_1.5.0.tar.gz PackageFileSize: 1.449 MiB