Package: rols Version: 3.3.0 Command: rm -rf rols.buildbin-libdir && mkdir rols.buildbin-libdir && /Users/biocbuild/BBS/utils/build-universal.sh rols_3.3.0.tar.gz /Library/Frameworks/R.framework/Resources/bin/R rols.buildbin-libdir StartedAt: 2025-02-03 23:04:12 -0500 (Mon, 03 Feb 2025) EndedAt: 2025-02-03 23:04:15 -0500 (Mon, 03 Feb 2025) EllapsedTime: 3.0 seconds RetCode: 0 Status: OK PackageFile: rols_3.3.0.tgz PackageFileSize: 653.4 KiB