Package: rols Version: 3.3.0 Command: /Library/Frameworks/R.framework/Resources/bin/R CMD build --keep-empty-dirs --no-resave-data rols StartedAt: 2025-02-09 17:27:07 -0500 (Sun, 09 Feb 2025) EndedAt: 2025-02-09 17:27:35 -0500 (Sun, 09 Feb 2025) EllapsedTime: 28.3 seconds RetCode: 0 Status: OK PackageFile: rols_3.3.0.tar.gz PackageFileSize: 389.9 KiB