Package: rols Version: 3.3.0 Command: /Library/Frameworks/R.framework/Resources/bin/R CMD INSTALL rols StartedAt: 2025-02-03 15:38:48 -0500 (Mon, 03 Feb 2025) EndedAt: 2025-02-03 15:38:50 -0500 (Mon, 03 Feb 2025) EllapsedTime: 2.2 seconds RetCode: 0 Status: OK