Package: rols Version: 3.3.0 Command: /home/biocbuild/R/R/bin/R CMD INSTALL rols StartedAt: 2025-01-29 19:36:18 -0000 (Wed, 29 Jan 2025) EndedAt: 2025-01-29 19:36:36 -0000 (Wed, 29 Jan 2025) EllapsedTime: 18.1 seconds RetCode: 0 Status: OK