############################################################################## ############################################################################## ### ### Running command: ### ### /Library/Frameworks/R.framework/Resources/bin/R CMD build --keep-empty-dirs --no-resave-data rols ### ############################################################################## ############################################################################## * checking for file ‘rols/DESCRIPTION’ ... OK * preparing ‘rols’: * checking DESCRIPTION meta-information ... OK * installing the package to build vignettes * creating vignettes ... OK * checking for LF line-endings in source and make files and shell scripts * checking for empty or unneeded directories NB: this package now depends on R (>= 4.1.0) WARNING: Added dependency on R >= 4.1.0 because package code uses the pipe |> or function shorthand \(...) syntax added in R 4.1.0. File(s) using such syntax: ‘OlsSearch.R’ ‘Ontologies.R’ ‘Terms.R’ ‘utils.R’ * building ‘rols_3.3.0.tar.gz’