Package: rols Version: 3.3.0 Command: /Library/Frameworks/R.framework/Resources/bin/R CMD INSTALL rols StartedAt: 2025-02-09 15:08:03 -0500 (Sun, 09 Feb 2025) EndedAt: 2025-02-09 15:08:32 -0500 (Sun, 09 Feb 2025) EllapsedTime: 28.8 seconds RetCode: 0 Status: OK