Package: rols Version: 3.3.0 Command: /home/biocbuild/bbs-3.21-bioc/R/bin/R CMD build --keep-empty-dirs --no-resave-data rols StartedAt: 2025-02-09 19:00:13 -0500 (Sun, 09 Feb 2025) EndedAt: 2025-02-09 19:00:49 -0500 (Sun, 09 Feb 2025) EllapsedTime: 36.0 seconds RetCode: 0 Status: OK PackageFile: rols_3.3.0.tar.gz PackageFileSize: 389.9 KiB