Package: rols Version: 3.3.0 Command: /home/biocbuild/bbs-3.21-bioc/R/bin/R CMD check --install=check:rols.install-out.txt --library=/home/biocbuild/bbs-3.21-bioc/R/site-library --timings rols_3.3.0.tar.gz StartedAt: 2025-02-10 02:03:43 -0500 (Mon, 10 Feb 2025) EndedAt: 2025-02-10 02:06:21 -0500 (Mon, 10 Feb 2025) EllapsedTime: 158.2 seconds RetCode: 0 Status: OK CheckDir: rols.Rcheck Warnings: 0