Package: rols Version: 3.3.0 Command: /home/biocbuild/bbs-3.21-bioc/R/bin/R CMD INSTALL rols StartedAt: 2025-02-09 15:14:17 -0500 (Sun, 09 Feb 2025) EndedAt: 2025-02-09 15:14:23 -0500 (Sun, 09 Feb 2025) EllapsedTime: 5.2 seconds RetCode: 0 Status: OK