Package: rols Version: 3.3.0 Command: rm -rf rols.buildbin-libdir && mkdir rols.buildbin-libdir && E:\biocbuild\bbs-3.21-bioc\R\bin\R.exe CMD INSTALL --build --library=rols.buildbin-libdir rols_3.3.0.tar.gz StartedAt: 2025-02-04 08:48:02 -0500 (Tue, 04 Feb 2025) EndedAt: 2025-02-04 08:48:31 -0500 (Tue, 04 Feb 2025) EllapsedTime: 29.1 seconds RetCode: 0 Status: OK PackageFile: rols_3.3.0.zip PackageFileSize: 656.9 KiB