Package: rols Version: 3.3.0 Command: chmod a+r rols -R && E:\biocbuild\bbs-3.21-bioc\R\bin\R.exe CMD build --keep-empty-dirs --no-resave-data rols StartedAt: 2025-02-03 21:29:52 -0500 (Mon, 03 Feb 2025) EndedAt: 2025-02-03 21:30:48 -0500 (Mon, 03 Feb 2025) EllapsedTime: 55.8 seconds RetCode: 0 Status: OK PackageFile: rols_3.3.0.tar.gz PackageFileSize: 390.3 KiB