Package: rols Version: 3.3.0 Command: E:\biocbuild\bbs-3.21-bioc\R\bin\R.exe CMD check --no-multiarch --install=check:rols.install-out.txt --library=E:\biocbuild\bbs-3.21-bioc\R\library --no-vignettes --timings rols_3.3.0.tar.gz StartedAt: 2025-02-04 05:17:41 -0500 (Tue, 04 Feb 2025) EndedAt: 2025-02-04 05:19:59 -0500 (Tue, 04 Feb 2025) EllapsedTime: 137.3 seconds RetCode: 0 Status: OK CheckDir: rols.Rcheck Warnings: 0