Package: rols Version: 3.3.0 Command: E:\biocbuild\bbs-3.21-bioc\R\bin\R.exe CMD INSTALL rols StartedAt: 2025-02-03 15:42:19 -0500 (Mon, 03 Feb 2025) EndedAt: 2025-02-03 15:42:52 -0500 (Mon, 03 Feb 2025) EllapsedTime: 32.4 seconds RetCode: 0 Status: OK