Package: ropls Version: 1.39.0 Command: /Library/Frameworks/R.framework/Resources/bin/R CMD build --keep-empty-dirs --no-resave-data ropls StartedAt: 2025-02-09 17:27:17 -0500 (Sun, 09 Feb 2025) EndedAt: 2025-02-09 17:27:44 -0500 (Sun, 09 Feb 2025) EllapsedTime: 27.3 seconds RetCode: 0 Status: OK PackageFile: ropls_1.39.0.tar.gz PackageFileSize: 5.541 MiB