Package: ropls Version: 1.39.0 Command: /Library/Frameworks/R.framework/Resources/bin/R CMD check --install=check:ropls.install-out.txt --library=/Library/Frameworks/R.framework/Resources/library --no-vignettes --timings ropls_1.39.0.tar.gz StartedAt: 2025-02-09 21:03:09 -0500 (Sun, 09 Feb 2025) EndedAt: 2025-02-09 21:43:10 -0500 (Sun, 09 Feb 2025) EllapsedTime: 2400.9 seconds RetCode: None Status: TIMEOUT CheckDir: ropls.Rcheck Warnings: NA