Package: ropls Version: 1.39.0 Command: /Library/Frameworks/R.framework/Resources/bin/R CMD INSTALL ropls StartedAt: 2025-02-09 15:26:02 -0500 (Sun, 09 Feb 2025) EndedAt: 2025-02-09 15:26:13 -0500 (Sun, 09 Feb 2025) EllapsedTime: 11.0 seconds RetCode: 0 Status: OK