Package: ropls Version: 1.39.0 Command: /home/biocbuild/R/R/bin/R CMD build --keep-empty-dirs --no-resave-data ropls StartedAt: 2025-01-29 01:50:35 -0000 (Wed, 29 Jan 2025) EndedAt: 2025-01-29 01:52:18 -0000 (Wed, 29 Jan 2025) EllapsedTime: 103.1 seconds RetCode: 0 Status: OK PackageFile: ropls_1.39.0.tar.gz PackageFileSize: 4.518 MiB